BEGIN:VCALENDAR
VERSION:2.0
PRODID:-//Panelian J&auml;&auml;halli - ECPv4.9.7//NONSGML v1.0//EN
CALSCALE:GREGORIAN
METHOD:PUBLISH
X-WR-CALNAME:Panelian J&auml;&auml;halli
X-ORIGINAL-URL:https://panelianjaahalli.fi
X-WR-CALDESC:Tapahtumat Panelian J&auml;&auml;halli
BEGIN:VTIMEZONE
TZID:"Europe/Helsinki"
BEGIN:DAYLIGHT
TZOFFSETFROM:+0200
TZOFFSETTO:+0300
TZNAME:EEST
DTSTART:20240331T010000
END:DAYLIGHT
BEGIN:STANDARD
TZOFFSETFROM:+0300
TZOFFSETTO:+0200
TZNAME:EET
DTSTART:20241027T010000
END:STANDARD
END:VTIMEZONE
BEGIN:VEVENT
DTSTART;TZID="Europe/Helsinki":20240107T140000
DTEND;TZID="Europe/Helsinki":20240107T160000
DTSTAMP:20260420T125254
CREATED:20231214T125216Z
LAST-MODIFIED:20231214T125248Z
UID:16515-1704636000-1704643200@panelianjaahalli.fi
SUMMARY:Kaikille avoin jäätapahtuma\, Lasten tammikuu
DESCRIPTION:Tapahtumassa on tarjolla leikkejä ja pienpelejä\nkaiken tasoille luistelijoille\, ja myös ensi kertoja luistimilla olevat voivat osallistua. Mukaan voi tulla\nsekä kiekkomailan kanssa että ilman. Kaukalon ulkopuolellakin löytyy tekemistä. Tapahtuman\nohjaajina toimivat Panelian Raikkaan edustusjoukkueen pelaajat. Maksuton tapahtuma. Raikkaan\nkahvio palvelee tapahtuman aikana. Jäälle tullessa pitää olla luistimien lisäksi luisteluun tarkoitettu\nkypärä ja kaulasuoja\, hallilla on lainattavissa kaulasuojia. Vanhemmat ovat tervetulleita jäälle\nmukaan lasten kanssa\, mutta vanhemmillakin tulee olla luistimet jalassa. Suosittelemme myös\nkypärän käyttämistä. Järj. Panelian Raikas\, Panelian jäähalli \n
URL:https://panelianjaahalli.fi/jaavuoro/kaikille-avoin-jaatapahtuma-lasten-tammikuu/
LOCATION:Panelian Jäähalli\, Kaskistontie 23\, Panelia\, 27430\, Suomi
CATEGORIES:Jäävuoro,Tapahtuma
END:VEVENT
END:VCALENDAR