BEGIN:VCALENDAR
VERSION:2.0
PRODID:-//Panelian J&auml;&auml;halli - ECPv4.9.7//NONSGML v1.0//EN
CALSCALE:GREGORIAN
METHOD:PUBLISH
X-WR-CALNAME:Panelian J&auml;&auml;halli
X-ORIGINAL-URL:https://panelianjaahalli.fi
X-WR-CALDESC:Tapahtumat Panelian J&auml;&auml;halli
BEGIN:VTIMEZONE
TZID:"Europe/Helsinki"
BEGIN:DAYLIGHT
TZOFFSETFROM:+0200
TZOFFSETTO:+0300
TZNAME:EEST
DTSTART:20250330T010000
END:DAYLIGHT
BEGIN:STANDARD
TZOFFSETFROM:+0300
TZOFFSETTO:+0200
TZNAME:EET
DTSTART:20251026T010000
END:STANDARD
END:VTIMEZONE
BEGIN:VEVENT
DTSTART;TZID="Europe/Helsinki":20250225T170000
DTEND;TZID="Europe/Helsinki":20250225T180000
DTSTAMP:20260421T163749
CREATED:20241217T102522Z
LAST-MODIFIED:20241217T102522Z
UID:18048-1740502800-1740506400@panelianjaahalli.fi
SUMMARY:Kiekkokoulu/ U9
DESCRIPTION:
URL:https://panelianjaahalli.fi/jaavuoro/kiekkokoulu-u9-2/2025-02-25/
LOCATION:Panelian Jäähalli\, Kaskistontie 23\, Panelia\, 27430\, Suomi
CATEGORIES:Jäävuoro
END:VEVENT
BEGIN:VEVENT
DTSTART;TZID="Europe/Helsinki":20250225T180000
DTEND;TZID="Europe/Helsinki":20250225T190000
DTSTAMP:20260421T163749
CREATED:20240806T102926Z
LAST-MODIFIED:20240806T102926Z
UID:17339-1740506400-1740510000@panelianjaahalli.fi
SUMMARY:U11
DESCRIPTION:
URL:https://panelianjaahalli.fi/jaavuoro/u11-2/2025-02-25/
LOCATION:Panelian Jäähalli\, Kaskistontie 23\, Panelia\, 27430\, Suomi
CATEGORIES:Jäävuoro
END:VEVENT
BEGIN:VEVENT
DTSTART;TZID="Europe/Helsinki":20250225T190000
DTEND;TZID="Europe/Helsinki":20250225T200000
DTSTAMP:20260421T163749
CREATED:20240806T090755Z
LAST-MODIFIED:20240828T083103Z
UID:17272-1740510000-1740513600@panelianjaahalli.fi
SUMMARY:U13/U14
DESCRIPTION:
URL:https://panelianjaahalli.fi/jaavuoro/u14/2025-02-25/
LOCATION:Panelian Jäähalli\, Kaskistontie 23\, Panelia\, 27430\, Suomi
CATEGORIES:Jäävuoro
END:VEVENT
BEGIN:VEVENT
DTSTART;TZID="Europe/Helsinki":20250225T200000
DTEND;TZID="Europe/Helsinki":20250225T210000
DTSTAMP:20260421T163749
CREATED:20240813T062638Z
LAST-MODIFIED:20240813T062638Z
UID:17373-1740513600-1740517200@panelianjaahalli.fi
SUMMARY:Lepakkovuoro
DESCRIPTION:
URL:https://panelianjaahalli.fi/jaavuoro/lepakkovuoro-19/2025-02-25/
LOCATION:Panelian Jäähalli\, Kaskistontie 23\, Panelia\, 27430\, Suomi
CATEGORIES:Jäävuoro
END:VEVENT
END:VCALENDAR