BEGIN:VCALENDAR
VERSION:2.0
PRODID:-//Panelian J&auml;&auml;halli - ECPv4.9.7//NONSGML v1.0//EN
CALSCALE:GREGORIAN
METHOD:PUBLISH
X-WR-CALNAME:Panelian J&auml;&auml;halli
X-ORIGINAL-URL:https://panelianjaahalli.fi
X-WR-CALDESC:Tapahtumat Panelian J&auml;&auml;halli
BEGIN:VTIMEZONE
TZID:"Europe/Helsinki"
BEGIN:DAYLIGHT
TZOFFSETFROM:+0200
TZOFFSETTO:+0300
TZNAME:EEST
DTSTART:20250330T010000
END:DAYLIGHT
BEGIN:STANDARD
TZOFFSETFROM:+0300
TZOFFSETTO:+0200
TZNAME:EET
DTSTART:20251026T010000
END:STANDARD
END:VTIMEZONE
BEGIN:VEVENT
DTSTART;TZID="Europe/Helsinki":20250302T110000
DTEND;TZID="Europe/Helsinki":20250302T123000
DTSTAMP:20260422T002100
CREATED:20250213T084806Z
LAST-MODIFIED:20250213T084806Z
UID:18178-1740913200-1740918600@panelianjaahalli.fi
SUMMARY:U11 PaRa- FoPS
DESCRIPTION:
URL:https://panelianjaahalli.fi/jaavuoro/u11-para-fops/
LOCATION:Panelian Jäähalli\, Kaskistontie 23\, Panelia\, 27430\, Suomi
CATEGORIES:Jäävuoro,Ottelu
END:VEVENT
BEGIN:VEVENT
DTSTART;TZID="Europe/Helsinki":20250302T130000
DTEND;TZID="Europe/Helsinki":20250302T153000
DTSTAMP:20260422T002100
CREATED:20250205T132513Z
LAST-MODIFIED:20250205T132513Z
UID:18158-1740920400-1740929400@panelianjaahalli.fi
SUMMARY:Naisten Suomi-sarja PaRa/Lukko- Turku HC
DESCRIPTION:
URL:https://panelianjaahalli.fi/jaavuoro/naisten-suomi-sarja-para-lukko-turku-hc/
LOCATION:Panelian Jäähalli\, Kaskistontie 23\, Panelia\, 27430\, Suomi
CATEGORIES:Jäävuoro,Ottelu
END:VEVENT
BEGIN:VEVENT
DTSTART;TZID="Europe/Helsinki":20250302T163000
DTEND;TZID="Europe/Helsinki":20250302T173000
DTSTAMP:20260422T002100
CREATED:20241217T102341Z
LAST-MODIFIED:20241217T102341Z
UID:18035-1740933000-1740936600@panelianjaahalli.fi
SUMMARY:Luistelukoulu
DESCRIPTION:
URL:https://panelianjaahalli.fi/jaavuoro/luistelukoulu-15/2025-03-02/
LOCATION:Panelian Jäähalli\, Kaskistontie 23\, Panelia\, 27430\, Suomi
CATEGORIES:Jäävuoro
END:VEVENT
BEGIN:VEVENT
DTSTART;TZID="Europe/Helsinki":20250302T173000
DTEND;TZID="Europe/Helsinki":20250302T183000
DTSTAMP:20260422T002100
CREATED:20240806T101603Z
LAST-MODIFIED:20241216T132051Z
UID:17058-1740936600-1740940200@panelianjaahalli.fi
SUMMARY:Kiekkokoulu
DESCRIPTION:
URL:https://panelianjaahalli.fi/jaavuoro/kiekkokoulu-u9-2025-01-05/2025-03-02/
LOCATION:Panelian Jäähalli\, Kaskistontie 23\, Panelia\, 27430\, Suomi
CATEGORIES:Jäävuoro
END:VEVENT
BEGIN:VEVENT
DTSTART;TZID="Europe/Helsinki":20250302T183000
DTEND;TZID="Europe/Helsinki":20250302T193000
DTSTAMP:20260422T002100
CREATED:20240819T140424Z
LAST-MODIFIED:20240819T140424Z
UID:17504-1740940200-1740943800@panelianjaahalli.fi
SUMMARY:Länsi-Eura
DESCRIPTION:
URL:https://panelianjaahalli.fi/jaavuoro/lansi-eura-20/2025-03-02/
LOCATION:Panelian Jäähalli\, Kaskistontie 23\, Panelia\, 27430\, Suomi
CATEGORIES:Jäävuoro
END:VEVENT
BEGIN:VEVENT
DTSTART;TZID="Europe/Helsinki":20250302T193000
DTEND;TZID="Europe/Helsinki":20250302T203000
DTSTAMP:20260422T002100
CREATED:20240806T090449Z
LAST-MODIFIED:20240806T090449Z
UID:16779-1740943800-1740947400@panelianjaahalli.fi
SUMMARY:Kiu-Hockey
DESCRIPTION:
URL:https://panelianjaahalli.fi/jaavuoro/kiu-hockey-20/2025-03-02/
LOCATION:Panelian Jäähalli\, Kaskistontie 23\, Panelia\, 27430\, Suomi
CATEGORIES:Jäävuoro
END:VEVENT
END:VCALENDAR