BEGIN:VCALENDAR
VERSION:2.0
PRODID:-//Panelian J&auml;&auml;halli - ECPv4.9.7//NONSGML v1.0//EN
CALSCALE:GREGORIAN
METHOD:PUBLISH
X-WR-CALNAME:Panelian J&auml;&auml;halli
X-ORIGINAL-URL:https://panelianjaahalli.fi
X-WR-CALDESC:Tapahtumat Panelian J&auml;&auml;halli
BEGIN:VTIMEZONE
TZID:"Europe/Helsinki"
BEGIN:DAYLIGHT
TZOFFSETFROM:+0200
TZOFFSETTO:+0300
TZNAME:EEST
DTSTART:20250330T010000
END:DAYLIGHT
BEGIN:STANDARD
TZOFFSETFROM:+0300
TZOFFSETTO:+0200
TZNAME:EET
DTSTART:20251026T010000
END:STANDARD
END:VTIMEZONE
BEGIN:VEVENT
DTSTART;TZID="Europe/Helsinki":20250304T090000
DTEND;TZID="Europe/Helsinki":20250304T101500
DTSTAMP:20260422T034304
CREATED:20250303T140818Z
LAST-MODIFIED:20250303T140818Z
UID:18196-1741078800-1741083300@panelianjaahalli.fi
SUMMARY:Päiväkoti Vesiperhoset
DESCRIPTION:
URL:https://panelianjaahalli.fi/jaavuoro/paivakoti-vesiperhoset-2/2025-03-04/
LOCATION:Panelian Jäähalli\, Kaskistontie 23\, Panelia\, 27430\, Suomi
CATEGORIES:Jäävuoro
END:VEVENT
BEGIN:VEVENT
DTSTART;TZID="Europe/Helsinki":20250304T170000
DTEND;TZID="Europe/Helsinki":20250304T180000
DTSTAMP:20260422T034304
CREATED:20241217T102522Z
LAST-MODIFIED:20241217T102522Z
UID:18049-1741107600-1741111200@panelianjaahalli.fi
SUMMARY:Kiekkokoulu/ U9
DESCRIPTION:
URL:https://panelianjaahalli.fi/jaavuoro/kiekkokoulu-u9-2/2025-03-04/
LOCATION:Panelian Jäähalli\, Kaskistontie 23\, Panelia\, 27430\, Suomi
CATEGORIES:Jäävuoro
END:VEVENT
BEGIN:VEVENT
DTSTART;TZID="Europe/Helsinki":20250304T180000
DTEND;TZID="Europe/Helsinki":20250304T190000
DTSTAMP:20260422T034304
CREATED:20240806T102926Z
LAST-MODIFIED:20240806T102926Z
UID:17340-1741111200-1741114800@panelianjaahalli.fi
SUMMARY:U11
DESCRIPTION:
URL:https://panelianjaahalli.fi/jaavuoro/u11-2/2025-03-04/
LOCATION:Panelian Jäähalli\, Kaskistontie 23\, Panelia\, 27430\, Suomi
CATEGORIES:Jäävuoro
END:VEVENT
BEGIN:VEVENT
DTSTART;TZID="Europe/Helsinki":20250304T190000
DTEND;TZID="Europe/Helsinki":20250304T200000
DTSTAMP:20260422T034304
CREATED:20240806T090755Z
LAST-MODIFIED:20240828T083104Z
UID:17273-1741114800-1741118400@panelianjaahalli.fi
SUMMARY:U13/U14
DESCRIPTION:
URL:https://panelianjaahalli.fi/jaavuoro/u14/2025-03-04/
LOCATION:Panelian Jäähalli\, Kaskistontie 23\, Panelia\, 27430\, Suomi
CATEGORIES:Jäävuoro
END:VEVENT
BEGIN:VEVENT
DTSTART;TZID="Europe/Helsinki":20250304T200000
DTEND;TZID="Europe/Helsinki":20250304T210000
DTSTAMP:20260422T034304
CREATED:20240813T062638Z
LAST-MODIFIED:20240813T062638Z
UID:17374-1741118400-1741122000@panelianjaahalli.fi
SUMMARY:Lepakkovuoro
DESCRIPTION:
URL:https://panelianjaahalli.fi/jaavuoro/lepakkovuoro-19/2025-03-04/
LOCATION:Panelian Jäähalli\, Kaskistontie 23\, Panelia\, 27430\, Suomi
CATEGORIES:Jäävuoro
END:VEVENT
END:VCALENDAR