BEGIN:VCALENDAR
VERSION:2.0
PRODID:-//Panelian J&auml;&auml;halli - ECPv4.9.7//NONSGML v1.0//EN
CALSCALE:GREGORIAN
METHOD:PUBLISH
X-WR-CALNAME:Panelian J&auml;&auml;halli
X-ORIGINAL-URL:https://panelianjaahalli.fi
X-WR-CALDESC:Tapahtumat Panelian J&auml;&auml;halli
BEGIN:VTIMEZONE
TZID:"Europe/Helsinki"
BEGIN:DAYLIGHT
TZOFFSETFROM:+0200
TZOFFSETTO:+0300
TZNAME:EEST
DTSTART:20250330T010000
END:DAYLIGHT
BEGIN:STANDARD
TZOFFSETFROM:+0300
TZOFFSETTO:+0200
TZNAME:EET
DTSTART:20251026T010000
END:STANDARD
END:VTIMEZONE
BEGIN:VEVENT
DTSTART;TZID="Europe/Helsinki":20250306T090000
DTEND;TZID="Europe/Helsinki":20250306T101500
DTSTAMP:20260422T064441
CREATED:20250303T140818Z
LAST-MODIFIED:20250303T140818Z
UID:18198-1741251600-1741256100@panelianjaahalli.fi
SUMMARY:Päiväkoti Vesiperhoset
DESCRIPTION:
URL:https://panelianjaahalli.fi/jaavuoro/paivakoti-vesiperhoset-2/2025-03-06/
LOCATION:Panelian Jäähalli\, Kaskistontie 23\, Panelia\, 27430\, Suomi
CATEGORIES:Jäävuoro
END:VEVENT
BEGIN:VEVENT
DTSTART;TZID="Europe/Helsinki":20250306T173000
DTEND;TZID="Europe/Helsinki":20250306T184500
DTSTAMP:20260422T064441
CREATED:20240806T102837Z
LAST-MODIFIED:20240806T102837Z
UID:17199-1741282200-1741286700@panelianjaahalli.fi
SUMMARY:U9/U11
DESCRIPTION:
URL:https://panelianjaahalli.fi/jaavuoro/u9-u11/2025-03-06/
LOCATION:Panelian Jäähalli\, Kaskistontie 23\, Panelia\, 27430\, Suomi
CATEGORIES:Jäävuoro
END:VEVENT
BEGIN:VEVENT
DTSTART;TZID="Europe/Helsinki":20250306T184500
DTEND;TZID="Europe/Helsinki":20250306T200000
DTSTAMP:20260422T064441
CREATED:20240806T090755Z
LAST-MODIFIED:20240828T083104Z
UID:17126-1741286700-1741291200@panelianjaahalli.fi
SUMMARY:U13/U14
DESCRIPTION:
URL:https://panelianjaahalli.fi/jaavuoro/u14/2025-03-06/
LOCATION:Panelian Jäähalli\, Kaskistontie 23\, Panelia\, 27430\, Suomi
CATEGORIES:Jäävuoro
END:VEVENT
BEGIN:VEVENT
DTSTART;TZID="Europe/Helsinki":20250306T200000
DTEND;TZID="Europe/Helsinki":20250306T210000
DTSTAMP:20260422T064441
CREATED:20240806T091039Z
LAST-MODIFIED:20240806T091039Z
UID:16989-1741291200-1741294800@panelianjaahalli.fi
SUMMARY:PaRa/Lukko naiset
DESCRIPTION:
URL:https://panelianjaahalli.fi/jaavuoro/para-lukko-naiset-2/2025-03-06/
LOCATION:Panelian Jäähalli\, Kaskistontie 23\, Panelia\, 27430\, Suomi
CATEGORIES:Jäävuoro
END:VEVENT
END:VCALENDAR