BEGIN:VCALENDAR
VERSION:2.0
PRODID:-//Panelian J&auml;&auml;halli - ECPv4.9.7//NONSGML v1.0//EN
CALSCALE:GREGORIAN
METHOD:PUBLISH
X-WR-CALNAME:Panelian J&auml;&auml;halli
X-ORIGINAL-URL:https://panelianjaahalli.fi
X-WR-CALDESC:Tapahtumat Panelian J&auml;&auml;halli
BEGIN:VTIMEZONE
TZID:"Europe/Helsinki"
BEGIN:DAYLIGHT
TZOFFSETFROM:+0200
TZOFFSETTO:+0300
TZNAME:EEST
DTSTART:20250330T010000
END:DAYLIGHT
BEGIN:STANDARD
TZOFFSETFROM:+0300
TZOFFSETTO:+0200
TZNAME:EET
DTSTART:20251026T010000
END:STANDARD
END:VTIMEZONE
BEGIN:VEVENT
DTSTART;TZID="Europe/Helsinki":20250323T153000
DTEND;TZID="Europe/Helsinki":20250323T163000
DTSTAMP:20260423T085359
CREATED:20250313T111317Z
LAST-MODIFIED:20250313T111317Z
UID:18206-1742743800-1742747400@panelianjaahalli.fi
SUMMARY:Yleisöluistelu
DESCRIPTION:
URL:https://panelianjaahalli.fi/jaavuoro/yleisoluistelu-21/
LOCATION:Panelian Jäähalli\, Kaskistontie 23\, Panelia\, 27430\, Suomi
CATEGORIES:Jäävuoro
END:VEVENT
BEGIN:VEVENT
DTSTART;TZID="Europe/Helsinki":20250323T163000
DTEND;TZID="Europe/Helsinki":20250323T173000
DTSTAMP:20260423T085359
CREATED:20241217T102341Z
LAST-MODIFIED:20241217T102341Z
UID:18038-1742747400-1742751000@panelianjaahalli.fi
SUMMARY:Luistelukoulu
DESCRIPTION:
URL:https://panelianjaahalli.fi/jaavuoro/luistelukoulu-15/2025-03-23/
LOCATION:Panelian Jäähalli\, Kaskistontie 23\, Panelia\, 27430\, Suomi
CATEGORIES:Jäävuoro
END:VEVENT
BEGIN:VEVENT
DTSTART;TZID="Europe/Helsinki":20250323T173000
DTEND;TZID="Europe/Helsinki":20250323T183000
DTSTAMP:20260423T085359
CREATED:20240806T101603Z
LAST-MODIFIED:20241216T132053Z
UID:17061-1742751000-1742754600@panelianjaahalli.fi
SUMMARY:Kiekkokoulu
DESCRIPTION:
URL:https://panelianjaahalli.fi/jaavuoro/kiekkokoulu-u9-2025-01-05/2025-03-23/
LOCATION:Panelian Jäähalli\, Kaskistontie 23\, Panelia\, 27430\, Suomi
CATEGORIES:Jäävuoro
END:VEVENT
BEGIN:VEVENT
DTSTART;TZID="Europe/Helsinki":20250323T183000
DTEND;TZID="Europe/Helsinki":20250323T193000
DTSTAMP:20260423T085359
CREATED:20240819T140424Z
LAST-MODIFIED:20240819T140424Z
UID:17507-1742754600-1742758200@panelianjaahalli.fi
SUMMARY:Länsi-Eura
DESCRIPTION:
URL:https://panelianjaahalli.fi/jaavuoro/lansi-eura-20/2025-03-23/
LOCATION:Panelian Jäähalli\, Kaskistontie 23\, Panelia\, 27430\, Suomi
CATEGORIES:Jäävuoro
END:VEVENT
BEGIN:VEVENT
DTSTART;TZID="Europe/Helsinki":20250323T193000
DTEND;TZID="Europe/Helsinki":20250323T203000
DTSTAMP:20260423T085359
CREATED:20240806T090449Z
LAST-MODIFIED:20240806T090449Z
UID:16782-1742758200-1742761800@panelianjaahalli.fi
SUMMARY:Kiu-Hockey
DESCRIPTION:
URL:https://panelianjaahalli.fi/jaavuoro/kiu-hockey-20/2025-03-23/
LOCATION:Panelian Jäähalli\, Kaskistontie 23\, Panelia\, 27430\, Suomi
CATEGORIES:Jäävuoro
END:VEVENT
END:VCALENDAR