BEGIN:VCALENDAR
VERSION:2.0
PRODID:-//Panelian J&auml;&auml;halli - ECPv4.9.7//NONSGML v1.0//EN
CALSCALE:GREGORIAN
METHOD:PUBLISH
X-WR-CALNAME:Panelian J&auml;&auml;halli
X-ORIGINAL-URL:https://panelianjaahalli.fi
X-WR-CALDESC:Tapahtumat Panelian J&auml;&auml;halli
BEGIN:VTIMEZONE
TZID:"Europe/Helsinki"
BEGIN:DAYLIGHT
TZOFFSETFROM:+0200
TZOFFSETTO:+0300
TZNAME:EEST
DTSTART:20250330T010000
END:DAYLIGHT
BEGIN:STANDARD
TZOFFSETFROM:+0300
TZOFFSETTO:+0200
TZNAME:EET
DTSTART:20251026T010000
END:STANDARD
END:VTIMEZONE
BEGIN:VEVENT
DTSTART;TZID="Europe/Helsinki":20250330T143000
DTEND;TZID="Europe/Helsinki":20250330T160000
DTSTAMP:20260423T194214
CREATED:20250205T132834Z
LAST-MODIFIED:20250205T132834Z
UID:18162-1743345000-1743350400@panelianjaahalli.fi
SUMMARY:U14 PaRa- TPS Stounit
DESCRIPTION:
URL:https://panelianjaahalli.fi/jaavuoro/u14-para-tps-stounit/
LOCATION:Panelian Jäähalli\, Kaskistontie 23\, Panelia\, 27430\, Suomi
CATEGORIES:Jäävuoro,Ottelu
END:VEVENT
BEGIN:VEVENT
DTSTART;TZID="Europe/Helsinki":20250330T163000
DTEND;TZID="Europe/Helsinki":20250330T173000
DTSTAMP:20260423T194214
CREATED:20241217T102341Z
LAST-MODIFIED:20241217T102341Z
UID:18039-1743352200-1743355800@panelianjaahalli.fi
SUMMARY:Luistelukoulu
DESCRIPTION:
URL:https://panelianjaahalli.fi/jaavuoro/luistelukoulu-15/2025-03-30/
LOCATION:Panelian Jäähalli\, Kaskistontie 23\, Panelia\, 27430\, Suomi
CATEGORIES:Jäävuoro
END:VEVENT
BEGIN:VEVENT
DTSTART;TZID="Europe/Helsinki":20250330T183000
DTEND;TZID="Europe/Helsinki":20250330T193000
DTSTAMP:20260423T194214
CREATED:20240819T140424Z
LAST-MODIFIED:20240819T140424Z
UID:17508-1743359400-1743363000@panelianjaahalli.fi
SUMMARY:Länsi-Eura
DESCRIPTION:
URL:https://panelianjaahalli.fi/jaavuoro/lansi-eura-20/2025-03-30/
LOCATION:Panelian Jäähalli\, Kaskistontie 23\, Panelia\, 27430\, Suomi
CATEGORIES:Jäävuoro
END:VEVENT
BEGIN:VEVENT
DTSTART;TZID="Europe/Helsinki":20250330T193000
DTEND;TZID="Europe/Helsinki":20250330T203000
DTSTAMP:20260423T194214
CREATED:20240806T090449Z
LAST-MODIFIED:20240806T090449Z
UID:16783-1743363000-1743366600@panelianjaahalli.fi
SUMMARY:Kiu-Hockey
DESCRIPTION:
URL:https://panelianjaahalli.fi/jaavuoro/kiu-hockey-20/2025-03-30/
LOCATION:Panelian Jäähalli\, Kaskistontie 23\, Panelia\, 27430\, Suomi
CATEGORIES:Jäävuoro
END:VEVENT
END:VCALENDAR